Workbook

Sheet 题库
A1: 序号 | B1: 题干描述 | C1: 选项a | D1: 选项b | E1: 选项c | F1: 选项d | G1: 答题区 | H1: 判断区
A2: 1 | B2: 十六进制400转换成十进制数是( ) | C2: 4096 | D2: 1024 | E2: 2048 | F2: 8192 | H2: =IF(G2=I2,"未作答 ",IF(G2=Sheet1!A2,"正确","错误")) -> 未作答
A3: 2 | B3: 在 Windows7中,有两个对系统资源进行管理的程序组,它们是"资源管理器"和( ) | C3: "回收站" | D3: "网络邻居" | E3: "计算机" | F3: "我的文档" | H3: =IF(G3=I3,"未作答 ",IF(G3=Sheet1!A3,"正确","错误")) -> 未作答
A4: 3 | B4: 十进制数17转换成二进制数是( ) | C4: (10110)2 | D4: (10101)2 | E4: (10001)2 | F4: -11011 | H4: =IF(G4=I4,"未作答 ",IF(G4=Sheet1!A4,"正确","错误")) -> 未作答
A5: 4 | B5: 下列四个数中,数值最小的是( ) | C5: (25)10 | D5: (111)10 | E5: (10110)2 | F5: (10111)2 | H5: =IF(G5=I5,"未作答 ",IF(G5=Sheet1!A5,"正确","错误")) -> 未作答
A6: 5 | B6: 将一个 C 类网络划分为 4 个子网,其子网掩码是() | C6: 255.255.255.128 | D6: 255.255.255.192 | E6: .255.255.255.0 | F6: .255.0.0.0 | H6: =IF(G6=I6,"未作答 ",IF(G6=Sheet1!A6,"正确","错误")) -> 未作答
A7: 6 | B7: 因特网中的IP地址由四个字节组成,每个字节之间用()符号分开 | C7: 、 | D7: , | E7: ; | F7: . | H7: =IF(G7=I7,"未作答 ",IF(G7=Sheet1!A7,"正确","错误")) -> 未作答
A8: 7 | B8: 在Windows 7操作系统中,切换程序的快捷键是( ) | C8: "Win"+"D" | D8: "Win"+"P" | E8: "Win"+"Shift" | F8: "Alt"+"Tab" | H8: =IF(G8=I8,"未作答 ",IF(G8=Sheet1!A8,"正确","错误")) -> 未作答
A9: 8 | B9: 在Windows 7操作系统中,显示桌面的快捷键是( ) | C9: "Win"+"D" | D9: "Win"+"P" | E9: "Win"+"Tab" | F9: "Alt"+"Tab" | H9: =IF(G9=I9,"未作答 ",IF(G9=Sheet1!A9,"正确","错误")) -> 未作答
A10: 9 | B10: 用IE打开http://www.sina.com.cn,然后将该网页另存为网页文件,如命名为:"云计算", 这时在所保存的文件夹中保存了两个文件,以下正确的是( ) | C10: "云计算.txt"和"云计算.files" | D10: "云计算.htm"和"云计算.files" | E10: "云计算.htm"和"云计算.txt" | F10: "云计算.htm"和"云计算.bak" | H10: =IF(G10=I10,"未作答 ",IF(G10=Sheet1!A10,"正确","错误")) -> 未作答
A11: 10 | B11: 为保护计算机软件著作权人的权益,国务院颁布实施了( ) | C11: 《中华人民共和国著作权法》 | D11: 《软件著作保护法规》 | E11: 《计算机软件保护条例》 | F11: 《中华人民共和国软件保护法》 | H11: =IF(G11=I11,"未作答 ",IF(G11=Sheet1!A11,"正确","错误")) -> 未作答
A12: 11 | B12: 选定文本块后,按住()键拖拽鼠标到需要处,即可实现文本块的复制 | C12: 【Ctrl】 | D12: 【Shift】 | E12: 【Alt】 | F12: 无需按键 | H12: =IF(G12=I12,"未作答 ",IF(G12=Sheet1!A12,"正确","错误")) -> 未作答
A13: 12 | B13: 在 Windows 中,桌面指的是() | C13: 窗口、图标和对话框所在的屏幕背景 | D13: 电脑台 | E13: 【资源管理器】窗口 | F13: 活动窗口 | H13: =IF(G13=I13,"未作答 ",IF(G13=Sheet1!A13,"正确","错误")) -> 未作答
A14: 13 | B14: 二进制数1010转换成十进制数是( ) | C14: 8 | D14: 9 | E14: 10 | F14: 11 | H14: =IF(G14=I14,"未作答 ",IF(G14=Sheet1!A14,"正确","错误")) -> 未作答
A15: 14 | B15: 十进制数511的二进制数是( ) | C15: 11101110 | D15: 111111111 | E15: 100000000 | F15: 100000001 | H15: =IF(G15=I15,"未作答 ",IF(G15=Sheet1!A15,"正确","错误")) -> 未作答
A16: 15 | B16: IP地址也可以用4个十进制数表示,每个数必须小于( ) | C16: 128 | D16: 64 | E16: 1024 | F16: 256 | H16: =IF(G16=I16,"未作答 ",IF(G16=Sheet1!A16,"正确","错误")) -> 未作答
A17: 16 | B17: 与二进制数01011011对应的十进制数是( ) | C17: 123 | D17: 87 | E17: 107 | F17: 91 | H17: =IF(G17=I17,"未作答 ",IF(G17=Sheet1!A17,"正确","错误")) -> 未作答
A18: 17 | B18: 把十进制数513转换成二进制数是( ) | C18: 1000000001 | D18: 1100000001 | E18: 1100000011 | F18: 1100010001 | H18: =IF(G18=I18,"未作答 ",IF(G18=Sheet1!A18,"正确","错误")) -> 未作答
A19: 18 | B19: 下列各项中表示网站域名的是( ) | C19: http://www.163.com | D19: www.163.com | E19: 124.185.56.88 | F19: liming@163.com | H19: =IF(G19=I19,"未作答 ",IF(G19=Sheet1!A19,"正确","错误")) -> 未作答
A20: 19 | B20: 7位二进制编码的ASCII码可表示的字符个数为( ) | C20: 128 | D20: 130 | E20: 127 | F20: 64 | H20: =IF(G20=I20,"未作答 ",IF(G20=Sheet1!A20,"正确","错误")) -> 未作答
A21: 20 | B21: IPv6 的地址长度为( ) | C21: 32 | D21: 64 位 | E21: 128 | F21: 256 位 | H21: =IF(G21=I21,"未作答 ",IF(G21=Sheet1!A21,"正确","错误")) -> 未作答
A22: 21 | B22: 以下显示器分辨率最低的是( ) | C22: 800*600 | D22: 1024*768 | E22: 1440*900 | F22: 640*480 | H22: =IF(G22=I22,"未作答 ",IF(G22=Sheet1!A22,"正确","错误")) -> 未作答
A23: 22 | B23: 我国《专利法》规定,实用新型专利权和外观设计专利权的期限自申请日之日起( ) | C23: 5年 | D23: 10年 | E23: 15年 | F23: 20年 | H23: =IF(G23=I23,"未作答 ",IF(G23=Sheet1!A23,"正确","错误")) -> 未作答
A24: 23 | B24: 在IP地址172.20.18.39(子网掩码255.255.0.0)中,代表主机标识的部分是( ) | C24: 172.2 | D24: 39 | E24: 18.39 | F24: 20.18.39 | H24: =IF(G24=I24,"未作答 ",IF(G24=Sheet1!A24,"正确","错误")) -> 未作答
A25: 24 | B25: 在主机IP地址为192.168.1.6,子网掩码为255.255.255.0的机器中,代表网络标识的是( ) | C25: 192 | D25: 192.168 | E25: 192.168.1 | F25: 192.168.1.100 | H25: =IF(G25=I25,"未作答 ",IF(G25=Sheet1!A25,"正确","错误")) -> 未作答
A26: 25 | B26: 将二进制(10011)2转化成十进制正确的是( ) | C26: 18 | D26: 19 | E26: 20 | F26: 17 | H26: =IF(G26=I26,"未作答 ",IF(G26=Sheet1!A26,"正确","错误")) -> 未作答
A27: 26 | B27: 以下哪一个是用户仅可以在本地内部网络中使用的专用 IP 地址( ) | C27: 192.168.1.1 | D27: 20.10.1.1 | E27: 202.113.1.1 | F27: 203.5.1.1 | H27: =IF(G27=I27,"未作答 ",IF(G27=Sheet1!A27,"正确","错误")) -> 未作答
A28: 27 | B28: 下列IP地址中,非法的IP地址组是( ) | C28: 259.197.184.2与202.197.184.144 | D28: 127.0.0.1与192.168.0.21 | E28: 202.196.64.1与202.197.176.16 | F28: 255.255.255.0与10.10.3.1 | H28: =IF(G28=I28,"未作答 ",IF(G28=Sheet1!A28,"正确","错误")) -> 未作答
A29: 28 | B29: 下列各项中,非法的IP地址是() | C29: 126.96.2.6 | D29: 190.256.38.8 | E29: 203.113.7.15 | F29: 203.226.1.68 | H29: =IF(G29=I29,"未作答 ",IF(G29=Sheet1!A29,"正确","错误")) -> 未作答
A30: 29 | B30: 二进制数(11100)2转换成十进制数是( ) | C30: 25 | D30: 26 | E30: 27 | F30: 28 | H30: =IF(G30=I30,"未作答 ",IF(G30=Sheet1!A30,"正确","错误")) -> 未作答
A31: 30 | B31: 进制是( ) | C31: 对于任何一种进制---X进制,就表示某一位置上的数运算时是逢X进X位. | D31: 二进制数有两个特点:它由两个基本数字12组成. | E31: 进制也就是进位制,是人们规定的一种进位方法. | F31: 十六进制数有两个基本特点:它由十六个字符0~15组成 | H31: =IF(G31=I31,"未作答 ",IF(G31=Sheet1!A31,"正确","错误")) -> 未作答
A32: 31 | B32: 一个 SATA 接口最多可以连接( )台 Sata 设备 | C32: 1 | D32: 2 | E32: 3 | F32: 4 | H32: =IF(G32=I32,"未作答 ",IF(G32=Sheet1!A32,"正确","错误")) -> 未作答
A33: 32 | B33: 在 IP 地址中,B 类网络地址占用字节数为 ( ) | C33: 1 | D33: 2 | E33: 3 | F33: 4 | H33: =IF(G33=I33,"未作答 ",IF(G33=Sheet1!A33,"正确","错误")) -> 未作答
A34: 33 | B34: 在 FAT 格式的分区中,单个文件最大不能超过( ) | C34: 1 G | D34: 2G | E34: 3G | F34: 4G | H34: =IF(G34=I34,"未作答 ",IF(G34=Sheet1!A34,"正确","错误")) -> 未作答
A35: 34 | B35: 法人或者其他组织的软件著作权,保护期为( )年 | C35: 20 | D35: 30 | E35: 40 | F35: 50 | H35: =IF(G35=I35,"未作答 ",IF(G35=Sheet1!A35,"正确","错误")) -> 未作答
A36: 35 | B36: 现代移动设备要接入互联网所使用的方式不包括( ) | C36: WiFi | D36: 3G | E36: 4G | F36: NFC | H36: =IF(G36=I36,"未作答 ",IF(G36=Sheet1!A36,"正确","错误")) -> 未作答
A37: 36 | B37: IP v6地址位数是( ) | C37: 16位 | D37: 32位 | E37: 64位 | F37: 128位 | H37: =IF(G37=I37,"未作答 ",IF(G37=Sheet1!A37,"正确","错误")) -> 未作答
A38: 37 | B38: 三位二进制数能表示的最大十进制数是( ) | C38: 1 | D38: 7 | E38: 8 | F38: 9 | H38: =IF(G38=I38,"未作答 ",IF(G38=Sheet1!A38,"正确","错误")) -> 未作答
A39: 38 | B39: 计算机的配置为:Intel奔腾4 2.8GHz/4GB/80GB/50X/17',其中通常用来表示内存大小的是 ( ) | C39: Intel奔腾4 2.8GHz | D39: 4GB | E39: 80GB | F39: DVD | H39: =IF(G39=I39,"未作答 ",IF(G39=Sheet1!A39,"正确","错误")) -> 未作答
A40: 39 | B40: 计算机的配置为:Intel奔腾4 2.8GHz/4GB/80GB/50X/17',其中通常用来表示硬盘存储量大小的是 ( ) | C40: Intel奔腾4 2.8GHz | D40: 4GB | E40: 80GB | F40: DVD | H40: =IF(G40=I40,"未作答 ",IF(G40=Sheet1!A40,"正确","错误")) -> 未作答
...

Sheet Sheet1
A1: 标准答案
A2: B
A3: C
A4: C
A5: C
A6: B
A7: D
A8: D
A9: A
A10: B
A11: C
A12: A
... A11071: A
